BEGIN:VCALENDAR
VERSION:2.0
PRODID:-//3nity.com//3nity CMS//EN
BEGIN:VEVENT
SUMMARY:ECW Pre-Mother's Day Tea Party
UID:2026-07-18-1214794@thechurchofthegoodshepherdbronx.org
SEQUENCE:0
STATUS:CONFIRMED
DTSTART:20260502T150000
DTEND:20260502T180000
DTSTAMP:20161222T120000
DESCRIPTION:Venue:  The Church of the Good Shepherd, Bronx\nTickets: $\nJoin the ECW with your family and friends for another elegant, entertaining afternoon.
URL:http://thechurchofthegoodshepherdbronx.org
END:VEVENT
END:VCALENDAR
